BEGIN:VCALENDAR
VERSION:2.0
PRODID:-//eventon.com NONSGML v1.0//EN
CALSCALE:GREGORIAN
METHOD:PUBLISH
BEGIN:VEVENT
UID:69ea52799e4b8
DTSTAMP:20260423T171017Z
DTSTART:20260526T070000Z
DTEND:20260528T130000Z
LOCATION:
SUMMARY:Demokratietage (Mini-Freizeit) * ab 12 Jahren
DESCRIPTION:Demokratietage (Mini-Freizeit) * ab 12 Jahren Der Kreisjugendri
 ng Schweinfurt lädt vom 26. - 28.05.2026 erstmals zu den Demokratietagen e
 in – einer spannenden Mini-Ferienfreizeit mit Übernachtung im Karl-Beck-
 Haus unter dem Motto „Gemeinsam stark – Mitreden\,  mitmachen\,  mitlac
 hen“. Im Mittelpunkt der Demokratietage steht die Frage\,  was Demokratie
  eigentlich bedeutet – und wie[..]\nhttps://www.kjr-sw.de/veranstaltungen
 /events/demokratietage-mini-freizeit-ab-12-jahren/
URL:https://www.kjr-sw.de/veranstaltungen/events/demokratietage-mini-freizeit-ab-12-jahren/
END:VEVENT
END:VCALENDAR